BEGIN:VCALENDAR
VERSION:2.0
PRODID:-//St. Philip Lutheran Church of Owosso - ECPv6.15.1.1//NONSGML v1.0//EN
CALSCALE:GREGORIAN
METHOD:PUBLISH
X-ORIGINAL-URL:https://stphilipowosso.org
X-WR-CALDESC:Events for St. Philip Lutheran Church of Owosso
REFRESH-INTERVAL;VALUE=DURATION:PT1H
X-Robots-Tag:noindex
X-PUBLISHED-TTL:PT1H
BEGIN:VTIMEZONE
TZID:UTC
BEGIN:STANDARD
TZOFFSETFROM:+0000
TZOFFSETTO:+0000
TZNAME:UTC
DTSTART:20230101T000000
END:STANDARD
END:VTIMEZONE
BEGIN:VEVENT
DTSTART;TZID=UTC:20250305T190000
DTEND;TZID=UTC:20250305T200000
DTSTAMP:20260423T164836
CREATED:20250202T160349Z
LAST-MODIFIED:20250202T160349Z
UID:1223-1741201200-1741204800@stphilipowosso.org
SUMMARY:Ash Wednesday
DESCRIPTION:Ash Wednesday Service\, 7pm
URL:https://stphilipowosso.org/event/ash-wednesday/
LOCATION:St. Philip Lutheran Church\, Owosso
END:VEVENT
BEGIN:VEVENT
DTSTART;TZID=UTC:20231122T190000
DTEND;TZID=UTC:20231122T200000
DTSTAMP:20260423T164836
CREATED:20231121T235703Z
LAST-MODIFIED:20231121T235703Z
UID:1067-1700679600-1700683200@stphilipowosso.org
SUMMARY:Thanksgiving Eve Vespers Service - Evening
DESCRIPTION:Evening Service for Thanksgiving Eve Vespers
URL:https://stphilipowosso.org/event/thanksgiving-eve-vespers-service-evening/
LOCATION:St. Philip Lutheran Church\, Owosso
END:VEVENT
BEGIN:VEVENT
DTSTART;TZID=UTC:20231122T110000
DTEND;TZID=UTC:20231122T120000
DTSTAMP:20260423T164836
CREATED:20231121T235607Z
LAST-MODIFIED:20231121T235607Z
UID:1065-1700650800-1700654400@stphilipowosso.org
SUMMARY:Thanksgiving Eve Vespers Service
DESCRIPTION:Thanksgiving Eve Vespers Service
URL:https://stphilipowosso.org/event/thanksgiving-eve-vespers-service/
LOCATION:St. Philip Lutheran Church\, Owosso
END:VEVENT
BEGIN:VEVENT
DTSTART;TZID=UTC:20231112T113000
DTEND;TZID=UTC:20231112T140000
DTSTAMP:20260423T164836
CREATED:20231031T015819Z
LAST-MODIFIED:20231031T015819Z
UID:1050-1699788600-1699797600@stphilipowosso.org
SUMMARY:St. Philip's Annual Harvest Dinner
DESCRIPTION:Join us after the 10:00 am service (& Fall’s voter’s meeting) for our Annual Harvest Dinner.
URL:https://stphilipowosso.org/event/st-philips-annual-harvest-dinner/
END:VEVENT
BEGIN:VEVENT
DTSTART;TZID=UTC:20231112T110000
DTEND;TZID=UTC:20231112T113000
DTSTAMP:20260423T164836
CREATED:20231031T015623Z
LAST-MODIFIED:20231031T015659Z
UID:1048-1699786800-1699788600@stphilipowosso.org
SUMMARY:Voters' Meeting (After Service)
DESCRIPTION:Fall voters’ meeting will be held Sunday\, Nov. 12th after the 10:00am service.
URL:https://stphilipowosso.org/event/voters-meeting-after-service/
LOCATION:St. Philip Lutheran Church\, Owosso
END:VEVENT
BEGIN:VEVENT
DTSTART;TZID=UTC:20230716T123000
DTEND;TZID=UTC:20230716T153000
DTSTAMP:20260423T164836
CREATED:20230625T141648Z
LAST-MODIFIED:20230702T193106Z
UID:967-1689510600-1689521400@stphilipowosso.org
SUMMARY:Annual Picnic
DESCRIPTION:Come join our congregation for our annual picnic filled with great food and fellowship!
URL:https://stphilipowosso.org/event/annual-picnic/
LOCATION:Harmon Patridge Park\, Chippewa Trail\, Owosso\, MI\, 48867\, United States
END:VEVENT
BEGIN:VEVENT
DTSTART;TZID=UTC:20230409T100000
DTEND;TZID=UTC:20230409T110000
DTSTAMP:20260423T164836
CREATED:20230404T001548Z
LAST-MODIFIED:20230404T001548Z
UID:949-1681034400-1681038000@stphilipowosso.org
SUMMARY:Easter Festival Service
DESCRIPTION:Easter Festival Service
URL:https://stphilipowosso.org/event/easter-festival-service/
LOCATION:St. Philip Lutheran Church\, Owosso
END:VEVENT
BEGIN:VEVENT
DTSTART;TZID=UTC:20230409T090000
DTEND;TZID=UTC:20230409T100000
DTSTAMP:20260423T164836
CREATED:20230404T001716Z
LAST-MODIFIED:20230404T001716Z
UID:951-1681030800-1681034400@stphilipowosso.org
SUMMARY:Easter Breakfast & Egg Hunt
DESCRIPTION:Join us for our Easter pancake breakfast and egg hunt on Easter Sunday!
URL:https://stphilipowosso.org/event/easter-breakfast-egg-hunt/
LOCATION:St. Philip Lutheran Church\, Owosso
END:VEVENT
BEGIN:VEVENT
DTSTART;TZID=UTC:20230409T070000
DTEND;TZID=UTC:20230409T080000
DTSTAMP:20260423T164836
CREATED:20230404T001446Z
LAST-MODIFIED:20230404T001446Z
UID:947-1681023600-1681027200@stphilipowosso.org
SUMMARY:Easter Sunrise Service
DESCRIPTION:Sunrise Service
URL:https://stphilipowosso.org/event/easter-sunrise-service/
LOCATION:St. Philip Lutheran Church\, Owosso
END:VEVENT
BEGIN:VEVENT
DTSTART;TZID=UTC:20230407T190000
DTEND;TZID=UTC:20230407T200000
DTSTAMP:20260423T164836
CREATED:20230404T001336Z
LAST-MODIFIED:20230404T001336Z
UID:945-1680894000-1680897600@stphilipowosso.org
SUMMARY:Good Friday
DESCRIPTION:Tenebre Service
URL:https://stphilipowosso.org/event/good-friday-2/
LOCATION:St. Philip Lutheran Church\, Owosso
END:VEVENT
BEGIN:VEVENT
DTSTART;TZID=UTC:20230407T110000
DTEND;TZID=UTC:20230407T120000
DTSTAMP:20260423T164836
CREATED:20230404T001228Z
LAST-MODIFIED:20230404T001228Z
UID:943-1680865200-1680868800@stphilipowosso.org
SUMMARY:Good Friday
DESCRIPTION:Tre Ore Service
URL:https://stphilipowosso.org/event/good-friday/
LOCATION:St. Philip Lutheran Church\, Owosso
END:VEVENT
BEGIN:VEVENT
DTSTART;TZID=UTC:20230406T190000
DTEND;TZID=UTC:20230406T200000
DTSTAMP:20260423T164836
CREATED:20230404T001057Z
LAST-MODIFIED:20230404T001057Z
UID:941-1680807600-1680811200@stphilipowosso.org
SUMMARY:Maundy Thursday
DESCRIPTION:Maundy Thursday service\, 7:00pm
URL:https://stphilipowosso.org/event/maundy-thursday/
LOCATION:St. Philip Lutheran Church\, Owosso
END:VEVENT
BEGIN:VEVENT
DTSTART;TZID=UTC:20230401T090000
DTEND;TZID=UTC:20230401T140000
DTSTAMP:20260423T164836
CREATED:20230306T232641Z
LAST-MODIFIED:20230306T232641Z
UID:934-1680339600-1680357600@stphilipowosso.org
SUMMARY:Easter Cookie Sale
DESCRIPTION:Times subject to change. Will update closer to the event.
URL:https://stphilipowosso.org/event/easter-cookie-sale/
LOCATION:St. Philip Lutheran Church\, Owosso
END:VEVENT
BEGIN:VEVENT
DTSTART;TZID=UTC:20230319T110000
DTEND;TZID=UTC:20230319T150000
DTSTAMP:20260423T164836
CREATED:20230306T232223Z
LAST-MODIFIED:20230306T232223Z
UID:932-1679223600-1679238000@stphilipowosso.org
SUMMARY:St. Patty's Potluck
DESCRIPTION:After worship and voters’ meeting\, come join us for food and fellowship!
URL:https://stphilipowosso.org/event/st-pattys-potluck/
LOCATION:St. Philip Lutheran Church\, Owosso
END:VEVENT
BEGIN:VEVENT
DTSTART;TZID=UTC:20230222T190000
DTEND;TZID=UTC:20230222T200000
DTSTAMP:20260423T164836
CREATED:20230214T200915Z
LAST-MODIFIED:20230214T200915Z
UID:929-1677092400-1677096000@stphilipowosso.org
SUMMARY:Ash Wednesday Service
DESCRIPTION:
URL:https://stphilipowosso.org/event/ash-wednesday-service-2/
LOCATION:St. Philip Lutheran Church\, Owosso
END:VEVENT
BEGIN:VEVENT
DTSTART;TZID=UTC:20230222T110000
DTEND;TZID=UTC:20230222T120000
DTSTAMP:20260423T164836
CREATED:20230214T200753Z
LAST-MODIFIED:20230214T200753Z
UID:927-1677063600-1677067200@stphilipowosso.org
SUMMARY:Ash Wednesday Service
DESCRIPTION:
URL:https://stphilipowosso.org/event/ash-wednesday-service/
LOCATION:St. Philip Lutheran Church\, Owosso
END:VEVENT
BEGIN:VEVENT
DTSTART;TZID=UTC:20230211T160000
DTEND;TZID=UTC:20230211T190000
DTSTAMP:20260423T164836
CREATED:20230205T235712Z
LAST-MODIFIED:20230205T235712Z
UID:891-1676131200-1676142000@stphilipowosso.org
SUMMARY:Family Fun Night
DESCRIPTION:Fun\, Food\, and Fellowship for the WHOLE Family! \nWe’ll bake pizza\, so bring your favorite topping(s)\, dessert\, or snack
URL:https://stphilipowosso.org/event/family-fun-night/
LOCATION:St. Philip Lutheran Church\, Owosso
END:VEVENT
END:VCALENDAR